BEGIN:VCALENDAR
METHOD:PUBLISH
PRODID:Data::ICal 0.13
VERSION:2.0
BEGIN:VEVENT
DESCRIPTION:Register here: https://afsp.donordrive.com/index.cfm?fuseaction=donorDrive.event&amp;eventID=4472
DTSTAMP:20260420T194840Z
DTSTART;TZID=America/New_York:20171007T150000
DTEND;TZID=America/New_York:20171007T170000
LOCATION:501 Foster St.\, Durham\, NC
SUMMARY:Walk To Fight Suicide
UID:3554454-1507388400-1507395600
END:VEVENT
END:VCALENDAR
