BEGIN:VCALENDAR
METHOD:PUBLISH
PRODID:Data::ICal 0.13
VERSION:2.0
BEGIN:VEVENT
DESCRIPTION:Click here for tickets.
DTSTAMP:20260420T162730Z
DTSTART;TZID=America/New_York:20171026T190000
DTEND;TZID=America/New_York:20171027T010000
LOCATION:5400 Miami Blvd\, Durham\, NC\, 27703
SUMMARY:Comedy Roast
UID:3551445-1509044400-1509066000
END:VEVENT
END:VCALENDAR
